BEGIN:VCALENDAR
VERSION:2.0
PRODID:-//TMWF - ECPv6.15.13//NONSGML v1.0//EN
CALSCALE:GREGORIAN
METHOD:PUBLISH
X-WR-CALNAME:TMWF
X-ORIGINAL-URL:https://tmwf.org
X-WR-CALDESC:Events for TMWF
REFRESH-INTERVAL;VALUE=DURATION:PT1H
X-Robots-Tag:noindex
X-PUBLISHED-TTL:PT1H
BEGIN:VTIMEZONE
TZID:America/Chicago
BEGIN:DAYLIGHT
TZOFFSETFROM:-0600
TZOFFSETTO:-0500
TZNAME:CDT
DTSTART:20200308T080000
END:DAYLIGHT
BEGIN:STANDARD
TZOFFSETFROM:-0500
TZOFFSETTO:-0600
TZNAME:CST
DTSTART:20201101T070000
END:STANDARD
BEGIN:DAYLIGHT
TZOFFSETFROM:-0600
TZOFFSETTO:-0500
TZNAME:CDT
DTSTART:20210314T080000
END:DAYLIGHT
BEGIN:STANDARD
TZOFFSETFROM:-0500
TZOFFSETTO:-0600
TZNAME:CST
DTSTART:20211107T070000
END:STANDARD
BEGIN:DAYLIGHT
TZOFFSETFROM:-0600
TZOFFSETTO:-0500
TZNAME:CDT
DTSTART:20220313T080000
END:DAYLIGHT
BEGIN:STANDARD
TZOFFSETFROM:-0500
TZOFFSETTO:-0600
TZNAME:CST
DTSTART:20221106T070000
END:STANDARD
END:VTIMEZONE
BEGIN:VEVENT
DTSTART;TZID=America/Chicago:20210914T113000
DTEND;TZID=America/Chicago:20210914T130000
DTSTAMP:20260422T043107
CREATED:20210908T004016Z
LAST-MODIFIED:20210908T004016Z
UID:5532-1631619000-1631624400@tmwf.org
SUMMARY:Monthly Mix & Mingle: Silk Painting Workshop
DESCRIPTION:Register
URL:https://tmwf.org/event/monthly-mix-mingle-silk-painting-workshop/
CATEGORIES:Mix & Mingle
ATTACH;FMTTYPE=image/png:https://tmwf.org/wp-content/uploads/2021/09/2021-EVENTBRITE-COVERS-5.png
END:VEVENT
BEGIN:VEVENT
DTSTART;TZID=America/Chicago:20210923T063000
DTEND;TZID=America/Chicago:20210923T233000
DTSTAMP:20260422T043107
CREATED:20210329T020025Z
LAST-MODIFIED:20210329T020025Z
UID:5042-1632378600-1632439800@tmwf.org
SUMMARY:North Texas Giving Day
DESCRIPTION:
URL:https://tmwf.org/event/north-texas-giving-day-2021/
ATTACH;FMTTYPE=image/png:https://tmwf.org/wp-content/uploads/2020/08/ntgd-logo.png
END:VEVENT
END:VCALENDAR