BEGIN:VCALENDAR
VERSION:2.0
PRODID:-//TMWF - ECPv6.15.13//NONSGML v1.0//EN
CALSCALE:GREGORIAN
METHOD:PUBLISH
X-ORIGINAL-URL:https://tmwf.org
X-WR-CALDESC:Events for TMWF
REFRESH-INTERVAL;VALUE=DURATION:PT1H
X-Robots-Tag:noindex
X-PUBLISHED-TTL:PT1H
BEGIN:VTIMEZONE
TZID:America/Chicago
BEGIN:DAYLIGHT
TZOFFSETFROM:-0600
TZOFFSETTO:-0500
TZNAME:CDT
DTSTART:20190310T080000
END:DAYLIGHT
BEGIN:STANDARD
TZOFFSETFROM:-0500
TZOFFSETTO:-0600
TZNAME:CST
DTSTART:20191103T070000
END:STANDARD
BEGIN:DAYLIGHT
TZOFFSETFROM:-0600
TZOFFSETTO:-0500
TZNAME:CDT
DTSTART:20200308T080000
END:DAYLIGHT
BEGIN:STANDARD
TZOFFSETFROM:-0500
TZOFFSETTO:-0600
TZNAME:CST
DTSTART:20201101T070000
END:STANDARD
BEGIN:DAYLIGHT
TZOFFSETFROM:-0600
TZOFFSETTO:-0500
TZNAME:CDT
DTSTART:20210314T080000
END:DAYLIGHT
BEGIN:STANDARD
TZOFFSETFROM:-0500
TZOFFSETTO:-0600
TZNAME:CST
DTSTART:20211107T070000
END:STANDARD
END:VTIMEZONE
BEGIN:VEVENT
DTSTART;VALUE=DATE:20201001
DTEND;VALUE=DATE:20201101
DTSTAMP:20260422T233918
CREATED:20200824T055623Z
LAST-MODIFIED:20201022T001309Z
UID:906-1601510400-1604188799@tmwf.org
SUMMARY:Domestic Violence Awareness Month
DESCRIPTION:
URL:https://tmwf.org/event/domestic-violence-month/
ATTACH;FMTTYPE=image/jpeg:https://tmwf.org/wp-content/uploads/2020/08/events-1197824335-800x392-1.jpg
END:VEVENT
BEGIN:VEVENT
DTSTART;TZID=America/Chicago:20201013T113000
DTEND;TZID=America/Chicago:20201013T130000
DTSTAMP:20260422T233918
CREATED:20200824T060921Z
LAST-MODIFIED:20201106T040913Z
UID:917-1602588600-1602594000@tmwf.org
SUMMARY:Monthly Luncheon - Embracing Challenges in Your Career
DESCRIPTION:Register
URL:https://tmwf.org/event/monthly-luncheon-life-coaching/
CATEGORIES:Luncheons
ATTACH;FMTTYPE=image/jpeg:https://tmwf.org/wp-content/uploads/2020/11/events-469623395-800x343-1.jpg
END:VEVENT
BEGIN:VEVENT
DTSTART;TZID=America/Chicago:20201023T190000
DTEND;TZID=America/Chicago:20201023T200000
DTSTAMP:20260422T233918
CREATED:20201019T064339Z
LAST-MODIFIED:20201022T001150Z
UID:4296-1603479600-1603483200@tmwf.org
SUMMARY:Speaker Series - Domestic Violence-Community Responsibility
DESCRIPTION:Register
URL:https://tmwf.org/event/speaker-series-domestic-violence-community-responsibility/
CATEGORIES:Speaker Series
ATTACH;FMTTYPE=image/jpeg:https://tmwf.org/wp-content/uploads/2020/08/events-1206567934-800x343-1.jpg
END:VEVENT
END:VCALENDAR