BEGIN:VCALENDAR
VERSION:2.0
PRODID:-//TMWF - ECPv6.15.13//NONSGML v1.0//EN
CALSCALE:GREGORIAN
METHOD:PUBLISH
X-WR-CALNAME:TMWF
X-ORIGINAL-URL:https://tmwf.org
X-WR-CALDESC:Events for TMWF
REFRESH-INTERVAL;VALUE=DURATION:PT1H
X-Robots-Tag:noindex
X-PUBLISHED-TTL:PT1H
BEGIN:VTIMEZONE
TZID:America/Chicago
BEGIN:DAYLIGHT
TZOFFSETFROM:-0600
TZOFFSETTO:-0500
TZNAME:CDT
DTSTART:20190310T080000
END:DAYLIGHT
BEGIN:STANDARD
TZOFFSETFROM:-0500
TZOFFSETTO:-0600
TZNAME:CST
DTSTART:20191103T070000
END:STANDARD
BEGIN:DAYLIGHT
TZOFFSETFROM:-0600
TZOFFSETTO:-0500
TZNAME:CDT
DTSTART:20200308T080000
END:DAYLIGHT
BEGIN:STANDARD
TZOFFSETFROM:-0500
TZOFFSETTO:-0600
TZNAME:CST
DTSTART:20201101T070000
END:STANDARD
BEGIN:DAYLIGHT
TZOFFSETFROM:-0600
TZOFFSETTO:-0500
TZNAME:CDT
DTSTART:20210314T080000
END:DAYLIGHT
BEGIN:STANDARD
TZOFFSETFROM:-0500
TZOFFSETTO:-0600
TZNAME:CST
DTSTART:20211107T070000
END:STANDARD
END:VTIMEZONE
BEGIN:VEVENT
DTSTART;TZID=America/Chicago:20200911T170000
DTEND;TZID=America/Chicago:20200911T180000
DTSTAMP:20260423T012315
CREATED:20200824T061319Z
LAST-MODIFIED:20201022T002210Z
UID:919-1599843600-1599847200@tmwf.org
SUMMARY:Speaker Series - The Faces of Philanthropy
DESCRIPTION:Register
URL:https://tmwf.org/event/speaker-series-communities-foundation-texas/
CATEGORIES:Speaker Series
ATTACH;FMTTYPE=image/jpeg:https://tmwf.org/wp-content/uploads/2020/08/events-1206567934-800x343-1.jpg
END:VEVENT
BEGIN:VEVENT
DTSTART;TZID=America/Chicago:20200915T113000
DTEND;TZID=America/Chicago:20200915T130000
DTSTAMP:20260423T012315
CREATED:20200824T060556Z
LAST-MODIFIED:20201106T040829Z
UID:912-1600169400-1600174800@tmwf.org
SUMMARY:Monthly Luncheon - How to Use Art as Therapy
DESCRIPTION:Register
URL:https://tmwf.org/event/ladies-monthly-virtual-luncheon-art-therapy/
CATEGORIES:Luncheons
ATTACH;FMTTYPE=image/jpeg:https://tmwf.org/wp-content/uploads/2020/11/events-469623395-800x343-1.jpg
END:VEVENT
BEGIN:VEVENT
DTSTART;TZID=America/Chicago:20200917T063000
DTEND;TZID=America/Chicago:20200917T233000
DTSTAMP:20260423T012315
CREATED:20200824T054922Z
LAST-MODIFIED:20200911T215558Z
UID:904-1600324200-1600385400@tmwf.org
SUMMARY:North Texas Giving Day
DESCRIPTION:Donate
URL:https://tmwf.org/event/north-texas-giving-day/
ATTACH;FMTTYPE=image/png:https://tmwf.org/wp-content/uploads/2020/08/ntgd-logo.png
END:VEVENT
END:VCALENDAR